BEGIN:VCALENDAR
VERSION:2.0
PRODID:-//Tukios.com/
BEGIN:VEVENT
UID:eecf9219-e8dc-448c-b218-41547eada07f@www.calvinbscruggsfh.com
DTSTAMP:20260421T190514Z
DTSTART:20260512T180000Z
DTEND:20260512T190000Z
SUMMARY:Cremation
DESCRIPTION:
URL:https://www.calvinbscruggsfh.com/obituaries/violetta-mclean
LOCATION:Metro Crematory 299 Frederick Rd.  BALTIMORE,  21213
GEO:39.2731479;-76.7249539
END:VEVENT
END:VCALENDAR