BEGIN:VCALENDAR
VERSION:2.0
PRODID:-//Tukios.com/
BEGIN:VEVENT
UID:85ea17d1-cdde-46a8-a65c-d8527dddb6c3@www.calvinbscruggsfh.com
DTSTAMP:20260421T190303Z
DTSTART:20260512T153000Z
DTEND:20260512T163000Z
SUMMARY:Funeral Service
DESCRIPTION:
URL:https://www.calvinbscruggsfh.com/obituaries/violetta-mclean
LOCATION: 1412 E Preston St  Baltimore MD 21213
GEO:39.3053847;-76.59908
END:VEVENT
END:VCALENDAR