BEGIN:VCALENDAR
VERSION:2.0
PRODID:-//Tukios.com/
BEGIN:VEVENT
UID:ce744692-bdc0-4708-8fbd-a8effe7ccc93@www.calvinbscruggsfh.com
DTSTAMP:20260421T185748Z
DTSTART:20260512T150000Z
DTEND:20260512T153000Z
SUMMARY:Wake
DESCRIPTION:
URL:https://www.calvinbscruggsfh.com/obituaries/violetta-mclean
LOCATION: 1412 E Preston St  Baltimore MD 21213
GEO:39.3053847;-76.59908
END:VEVENT
END:VCALENDAR