BEGIN:VCALENDAR
VERSION:2.0
PRODID:-//Tukios.com/
BEGIN:VEVENT
UID:9ff34eb7-74e8-49de-a14d-05698f9481bd@www.calvinbscruggsfh.com
DTSTAMP:20260423T201422Z
DTSTART:20260508T180000Z
DTEND:20260508T190000Z
SUMMARY:Cremation
DESCRIPTION:
URL:https://www.calvinbscruggsfh.com/obituaries/mary-davis
LOCATION:Metro Crematory 299 Frederick Rd.  Baltimore MD 21228
GEO:39.2731479;-76.7249539
END:VEVENT
END:VCALENDAR