BEGIN:VCALENDAR
VERSION:2.0
PRODID:-//Tukios.com/
BEGIN:VEVENT
UID:254c199c-fc4d-4491-bb5d-71176303bbfe@www.calvinbscruggsfh.com
DTSTAMP:20260423T202136Z
DTSTART:20260508T150000Z
DTEND:20260508T160000Z
SUMMARY:Funeral Service
DESCRIPTION:
URL:https://www.calvinbscruggsfh.com/obituaries/mary-davis
LOCATION: 1412 E Preston St  Baltimore MD 21213
GEO:39.3053847;-76.59908
END:VEVENT
END:VCALENDAR