BEGIN:VCALENDAR
VERSION:2.0
PRODID:-//Tukios.com/
BEGIN:VEVENT
UID:b53adda8-01e3-437b-b5ea-327f8254d84c@www.calvinbscruggsfh.com
DTSTAMP:20260423T202222Z
DTSTART:20260507T200000Z
DTEND:20260507T230000Z
SUMMARY:Viewing
DESCRIPTION:
URL:https://www.calvinbscruggsfh.com/obituaries/mary-davis
LOCATION: 1412 E Preston St  Baltimore MD 21213
GEO:39.3053847;-76.59908
END:VEVENT
END:VCALENDAR